BEGIN:VCALENDAR
VERSION:2.0
PRODID:icalendar-ruby
CALSCALE:GREGORIAN
METHOD:PUBLISH
BEGIN:VEVENT
DTSTAMP:20260423T125212Z
UID:10-437529@mtenon.tithelysetup5.com
DTSTART:20261015T003000Z
DTEND:20261015T011500Z
CLASS:PUBLIC
CREATED:20260423T053448
DESCRIPTION:
LAST-MODIFIED:20260423T053448
LOCATION:
SUMMARY:Fellowship Meal
URL;VALUE=URI:https://mtenon.com/events/fellowship-meal/2026-10-14
ATTACH;FILENAME=Meals.png;FMTTYPE=image/png:https://dq5pwpg1q8ru0.cloudfron
 t.net/2025/10/19/15/55/00/1ff72958-e1b7-4114-a08a-99db13c1f791/Meals.png
END:VEVENT
END:VCALENDAR
