BEGIN:VCALENDAR
VERSION:2.0
PRODID:icalendar-ruby
CALSCALE:GREGORIAN
METHOD:PUBLISH
BEGIN:VEVENT
DTSTAMP:20260420T114427Z
UID:16-351005@mtenon.tithelysetup5.com
DTSTART:20260517T150000Z
DTEND:20260517T160000Z
CLASS:PUBLIC
CREATED:20260307T135306
DESCRIPTION:The men of our church gather on the 3rd Sunday of each month at
  8:00 AM in the Fellowship Hall for a time of fellowship and breakfast tog
 ether.\nIt’s a relaxed and welcoming time to build friendships\, encoura
 ge one another\, and start the day together before Sunday morning activiti
 es.\nAll men and boys are welcome — come hungry and ready for good conve
 rsation!\nLocation: Fellowship HallTime: 8:00 AMWhen: 3rd Sunday of each m
 onth
LAST-MODIFIED:20260307T135306
LOCATION:Fellowship Hall
SUMMARY:Men's Breakfast
URL;VALUE=URI:https://mtenon.com/events/mens-breakfast/2026-05-17
ATTACH;FILENAME=mens.jpg;FMTTYPE=image/jpeg:https://dq5pwpg1q8ru0.cloudfron
 t.net/2026/03/07/21/53/06/3d8caee7-d425-4b30-aa07-fcaf78357299/mens.jpg
END:VEVENT
END:VCALENDAR
