BEGIN:VCALENDAR
VERSION:2.0
PRODID:icalendar-ruby
CALSCALE:GREGORIAN
METHOD:PUBLISH
BEGIN:VEVENT
DTSTAMP:20260420T105652Z
UID:5-431490@mtenon.tithelysetup5.com
DTSTART:20261025T173000Z
DTEND:20261025T183000Z
CLASS:PUBLIC
CREATED:20260420T003737
DESCRIPTION:Sunday Worship
LAST-MODIFIED:20260420T003737
LOCATION:
SUMMARY:Sunday Worship
URL;VALUE=URI:https://mtenon.com/events/sunday-worship/2026-10-25
END:VEVENT
END:VCALENDAR
